BEGIN:VCALENDAR
VERSION:2.0
PRODID:-//eventon.com NONSGML v1.0//EN
CALSCALE:GREGORIAN
METHOD:PUBLISH
BEGIN:VEVENT
UID:69e59a66455a1
DTSTAMP:20260420T031550Z
DTSTART:20260424T070000Z
DTEND:20260424T130000Z
LOCATION:Insinöörit ja Ekonomit -talo Junailijanaukio 3\,  Helsinki
SUMMARY:Yleisötyön koulutus
DESCRIPTION:Museo- ja kulttuuriperintöalan ammattiliitto MAL ja Museopedag
 oginen yhdistys Pedaali järjestävät yhdessä yleisötyön koulutuksen\, 
  joka on suunnattu museoiden oppaille\,  asiakaspalvelijoille ja museovalvo
 jille sekä näihin tehtäviin suuntautuville alan ammattilaisille ja opisk
 elijoille. Koulutus järjestetään lähikoulutuksena perjantaina 24.4. Hel
 singissä\,  mutta osaan koulutuksesta voi osallistua myös etäyhteyden ka
 utta. Koulutus järjestetään klo 10-16 – tutustu koulutuksen[..]\nhttps
 ://malry.fi/kalenteri/yleisotyon-koulutus-042026/
URL:https://malry.fi/kalenteri/yleisotyon-koulutus-042026/
END:VEVENT
END:VCALENDAR