BEGIN:VCALENDAR
VERSION:2.0
PRODID:-//eventon.com NONSGML v1.0//EN
CALSCALE:GREGORIAN
METHOD:PUBLISH
BEGIN:VEVENT
UID:69e652bcb7fa4
DTSTAMP:20260420T162220Z
DTSTART:20260421T133000Z
DTEND:20260421T153000Z
LOCATION:
SUMMARY:Museo- ja kulttuuriperintöalan ammattiliitto MAL ry:n sääntömääräinen vuosikokous
DESCRIPTION:Kokouskutsu on lähetetty jäsenille sähköpostitse 7.4.2026. 
 Museo- ja kulttuuriperintöalan ammattiliiton sääntömääräinen vuosiko
 kous järjestetään etäkokouksena tiistaina 21.4.2026 klo 16.30. Kokouks
 een ovat kaikki jäsenet lämpimästi tervetulleita. Kokousmateriaalit läh
 etetään ilmoittautuneille ennen kokousta. Ilmoittauduthan vuosikokoukseen
  20.4.. mennessä tästä! Jos haluat ilmoittautua mukaan 20.4. jälkeen\,
   laitathan pikaisesti whatsap-viestiä toiminnanjohtaja Katariina Mäkelä
 lle 040 7747 620. . Saavuthan ajoissa[..]\nhttps://malry.fi/kalenteri/museo
 -ja-kulttuuriperintoalan-ammattiliitto-mal-ryn-saantomaarainen-vuosikokous-
 2026/
URL:https://malry.fi/kalenteri/museo-ja-kulttuuriperintoalan-ammattiliitto-mal-ryn-saantomaarainen-vuosikokous-2026/
END:VEVENT
END:VCALENDAR